BEGIN:VCALENDAR
VERSION:2.0
PRODID:-//Laurel Highlands Networking - ECPv6.15.18//NONSGML v1.0//EN
CALSCALE:GREGORIAN
METHOD:PUBLISH
X-ORIGINAL-URL:https://www.laurelhighlandsnetworking.com
X-WR-CALDESC:Events for Laurel Highlands Networking
REFRESH-INTERVAL;VALUE=DURATION:PT1H
X-Robots-Tag:noindex
X-PUBLISHED-TTL:PT1H
BEGIN:VTIMEZONE
TZID:UTC
BEGIN:STANDARD
TZOFFSETFROM:+0000
TZOFFSETTO:+0000
TZNAME:UTC
DTSTART:20180101T000000
END:STANDARD
END:VTIMEZONE
BEGIN:VEVENT
DTSTART;TZID=UTC:20200327T071500
DTEND;TZID=UTC:20200327T083000
DTSTAMP:20260425T162243
CREATED:20200214T222915Z
LAST-MODIFIED:20200316T174714Z
UID:1658-1585293300-1585297800@www.laurelhighlandsnetworking.com
SUMMARY:MEETING POSTPONED DUE TO COVID19 - JOIN US AGAIN ON APRIL 3
DESCRIPTION:Join Us and Tim\, owner of Underwood Construction – as he teaches us the best way to approach home improvements and also improvements to your business.  Spring is the perfect time to fix up and make improvements.
URL:https://www.laurelhighlandsnetworking.com/event/featured-speaker-underwood-construction-tim-underwood/
LOCATION:Holiday Inn\, 250 Market Street\, Johnstown\, PA\, 15901\, United States
END:VEVENT
BEGIN:VEVENT
DTSTART;TZID=UTC:20200320T071500
DTEND;TZID=UTC:20200320T083000
DTSTAMP:20260425T162243
CREATED:20200214T222736Z
LAST-MODIFIED:20200316T174629Z
UID:1656-1584688500-1584693000@www.laurelhighlandsnetworking.com
SUMMARY:3-20-20  MEETING POSTPONED DUE TO COVID19
DESCRIPTION:Join Us and Kyra as she discusses smart marketing for your business to increase customers using TV\, Digital\, Social Media.
URL:https://www.laurelhighlandsnetworking.com/event/featured-speaker-wjac-tv-kyra-kozielec-gilmore/
LOCATION:PA
END:VEVENT
BEGIN:VEVENT
DTSTART;TZID=UTC:20200313T071500
DTEND;TZID=UTC:20200313T083000
DTSTAMP:20260425T162243
CREATED:20200214T222605Z
LAST-MODIFIED:20200214T222605Z
UID:1654-1584083700-1584088200@www.laurelhighlandsnetworking.com
SUMMARY:FEATURED SPEAKER SOMERSET TRUST:  MIKE STEVENS
DESCRIPTION:Join Us and Mike Stevens and learn all about how to make the most of your money for business and personal reasons.  Mike will also update us on current rates for loans and savings options.
URL:https://www.laurelhighlandsnetworking.com/event/featured-speaker-somerset-trust-mike-stevens/
LOCATION:Holiday Inn\, 250 Market Street\, Johnstown\, PA\, 15901\, United States
END:VEVENT
BEGIN:VEVENT
DTSTART;TZID=UTC:20200306T071500
DTEND;TZID=UTC:20200306T083000
DTSTAMP:20260425T162243
CREATED:20200214T222406Z
LAST-MODIFIED:20200214T223603Z
UID:1652-1583478900-1583483400@www.laurelhighlandsnetworking.com
SUMMARY:FEATURED SPEAKER OTS: KEVIN OLEKSA
DESCRIPTION:Join Us and Kevin Oleksa\, owner of OTS  – and learn all about updates for LENOVO and the current status of Windows and Security Issues.
URL:https://www.laurelhighlandsnetworking.com/event/featured-speaker-ots-kevin-oleksa/
LOCATION:Holiday Inn\, 250 Market Street\, Johnstown\, PA\, 15901\, United States
END:VEVENT
BEGIN:VEVENT
DTSTART;TZID=UTC:20200228T071500
DTEND;TZID=UTC:20200228T083000
DTSTAMP:20260425T162243
CREATED:20200221T200447Z
LAST-MODIFIED:20200221T200447Z
UID:1664-1582874100-1582878600@www.laurelhighlandsnetworking.com
SUMMARY:FEATURED SPEAKER:  SHAINA PEARSON
DESCRIPTION:Join Us and Shaina Pearson\, owner of LIGHT MY CANDLE photography – and learn all about her passion for photography and the differences between taking a quick shot yourself versus hiring a professional.
URL:https://www.laurelhighlandsnetworking.com/event/featured-speaker-shaina-pearson/
LOCATION:Holiday Inn\, 250 Market Street\, Johnstown\, PA\, 15901\, United States
END:VEVENT
BEGIN:VEVENT
DTSTART;TZID=UTC:20200221T071500
DTEND;TZID=UTC:20200221T083000
DTSTAMP:20260425T162243
CREATED:20200214T221959Z
LAST-MODIFIED:20200214T223646Z
UID:1647-1582269300-1582273800@www.laurelhighlandsnetworking.com
SUMMARY:FEATURED SPEAKER LAUREL ASPHALT: JOHN RUGG
DESCRIPTION:Join Us and John Rugg\, owner of Laurel Asphalt\, and learn about the proper ways to install asphalt to protect your driveway and parking lots  Also learn all about the different options for sidewalks\, walkways\, driveways included the very popular STREET PRINT!
URL:https://www.laurelhighlandsnetworking.com/event/featured-speaker-2-21-2020-laurel-asphalt/
LOCATION:Holiday Inn\, 250 Market Street\, Johnstown\, PA\, 15901\, United States
END:VEVENT
BEGIN:VEVENT
DTSTART;TZID=UTC:20200214T071500
DTEND;TZID=UTC:20200214T083000
DTSTAMP:20260425T162243
CREATED:20200104T224444Z
LAST-MODIFIED:20200104T224444Z
UID:1636-1581664500-1581669000@www.laurelhighlandsnetworking.com
SUMMARY:2-14-20  FEATURED SPEAKER:  Jerry Thomas
DESCRIPTION:Join Us for a very special Valentine’s Day treat – speaker Jerry Thomas\, owner of Jerry Thomas Land Surveying – and discover why he is  – WORLD FAMOUS.  Jerry is always entertaining and informative – and maybe we can even get a song out of him!
URL:https://www.laurelhighlandsnetworking.com/event/2-14-20-featured-speaker-jerry-thomas/
LOCATION:Holiday Inn\, 250 Market Street\, Johnstown\, PA\, 15901\, United States
END:VEVENT
BEGIN:VEVENT
DTSTART;TZID=UTC:20200207T071500
DTEND;TZID=UTC:20200207T083000
DTSTAMP:20260425T162243
CREATED:20200104T224219Z
LAST-MODIFIED:20200104T224219Z
UID:1634-1581059700-1581064200@www.laurelhighlandsnetworking.com
SUMMARY:2-7-20  FEATURED SPEAKER:  Larry Davis
DESCRIPTION:Join us and Larry Davis\, owner of E-3 Design – as he discussed the value and importance of an updated website in today’s economy.  Larry also shares great ideas and sometimes awesome photography as well!
URL:https://www.laurelhighlandsnetworking.com/event/2-7-20-featured-speaker-larry-davis/
LOCATION:Holiday Inn\, 250 Market Street\, Johnstown\, PA\, 15901\, United States
END:VEVENT
BEGIN:VEVENT
DTSTART;TZID=UTC:20200131T071500
DTEND;TZID=UTC:20200131T083000
DTSTAMP:20260425T162243
CREATED:20200104T224003Z
LAST-MODIFIED:20200104T224003Z
UID:1632-1580454900-1580459400@www.laurelhighlandsnetworking.com
SUMMARY:1-31-20  FEATURED SPEAKER:  John Huston
DESCRIPTION:Join us and our new 2020 President – John Huston – as he shares his thoughts and ideas for a successful new year.  When John speaks – everyone leaves inspired and motivated – be sure to attend!
URL:https://www.laurelhighlandsnetworking.com/event/1-31-20-featured-speaker-john-huston/
LOCATION:Holiday Inn\, 250 Market Street\, Johnstown\, PA\, 15901\, United States
END:VEVENT
BEGIN:VEVENT
DTSTART;TZID=UTC:20200124T071500
DTEND;TZID=UTC:20200124T083000
DTSTAMP:20260425T162243
CREATED:20200104T223801Z
LAST-MODIFIED:20200104T223801Z
UID:1630-1579850100-1579854600@www.laurelhighlandsnetworking.com
SUMMARY:1-24-20  FEATURED SPEAKER:  Cynthia Watters and Pieter Reynolds
DESCRIPTION:Join Us and Cynthia and Pieter from Epic Journeys – as they preview all of the 2020 trips available for vacation – and some you may never even have thought of before!  As Cynthia likes to say – she sells ‘dreams’ for a living – so come and dream with us!
URL:https://www.laurelhighlandsnetworking.com/event/1-24-20-featured-speaker-cynthia-watters-and-pieter-reynolds/
LOCATION:Holiday Inn\, 250 Market Street\, Johnstown\, PA\, 15901\, United States
END:VEVENT
BEGIN:VEVENT
DTSTART;TZID=UTC:20200117T071500
DTEND;TZID=UTC:20200117T083000
DTSTAMP:20260425T162243
CREATED:20200116T211435Z
LAST-MODIFIED:20200116T211522Z
UID:1638-1579245300-1579249800@www.laurelhighlandsnetworking.com
SUMMARY:FEATURED SPEAKER:  JASON KAPLITZ FROM DAMIN PRINTING
DESCRIPTION:Join us and Jason from Damin Printing – and learn all about the exciting changes in the printing and embroidery world – discover how to put you logo on just about ANYTHING! to help extend your brand in business.
URL:https://www.laurelhighlandsnetworking.com/event/featured-speaker-jason-kaplitz-from-damin-printing/
LOCATION:Holiday Inn\, 250 Market Street\, Johnstown\, PA\, 15901\, United States
END:VEVENT
BEGIN:VEVENT
DTSTART;TZID=UTC:20200110T071500
DTEND;TZID=UTC:20200110T083000
DTSTAMP:20260425T162243
CREATED:20200104T223521Z
LAST-MODIFIED:20200104T223521Z
UID:1628-1578640500-1578645000@www.laurelhighlandsnetworking.com
SUMMARY:1-10-20  FEATURED SPEAKER:  Dr. Simone Flesik
DESCRIPTION:Happy New Year!  We begin our 2020 season with our Featured Speaker – Dr. Simone Flesik.  Join us and Dr. Simone as she helps us to start the new year off with improving and maintaining our good health for the year.
URL:https://www.laurelhighlandsnetworking.com/event/1-10-20-featured-speaker-dr-simone-flesik/
LOCATION:Holiday Inn\, 250 Market Street\, Johnstown\, PA\, 15901\, United States
END:VEVENT
BEGIN:VEVENT
DTSTART;TZID=UTC:20191025T071500
DTEND;TZID=UTC:20191025T083000
DTSTAMP:20260425T162243
CREATED:20191023T185155Z
LAST-MODIFIED:20191023T185155Z
UID:1624-1571987700-1571992200@www.laurelhighlandsnetworking.com
SUMMARY:10-25-19 FEATURED SPEAKER:  CHAD VIROSTEK - OVERHEAD DOOR COMPANY
DESCRIPTION:Join Us and Chad – as he discusses and showcases current garage door styles to improve your curb appeal – immediately!
URL:https://www.laurelhighlandsnetworking.com/event/10-25-19-featured-speaker-chad-virostek-overhead-door-company/
LOCATION:Holiday Inn\, 250 Market Street\, Johnstown\, PA\, 15901\, United States
END:VEVENT
BEGIN:VEVENT
DTSTART;TZID=UTC:20190802T071500
DTEND;TZID=UTC:20190802T083000
DTSTAMP:20260425T162243
CREATED:20190730T201324Z
LAST-MODIFIED:20190730T201324Z
UID:1620-1564730100-1564734600@www.laurelhighlandsnetworking.com
SUMMARY:8-2-19 FEATURED SPEAKER:  Simone Flesik of Windber Chiropractic Clinic
DESCRIPTION:Join Us and Dr. Flesik as she explains the overall health benefits of chiropractic care -for prevention as well as chronic care.
URL:https://www.laurelhighlandsnetworking.com/event/8-2-19-featured-speaker-simone-flesik-of-windber-chiropractic-clinic/
LOCATION:Holiday Inn\, 250 Market Street\, Johnstown\, PA\, 15901\, United States
END:VEVENT
BEGIN:VEVENT
DTSTART;TZID=UTC:20190621T071500
DTEND;TZID=UTC:20190621T083000
DTSTAMP:20260425T162243
CREATED:20190618T180352Z
LAST-MODIFIED:20190618T180406Z
UID:1615-1561101300-1561105800@www.laurelhighlandsnetworking.com
SUMMARY:**ATTENTION - DESTINATION MEETING AT PERKINS - FEATURING CYNTHIA WATTERS of EPIC JOURNEYS  6-21-19
DESCRIPTION:Join Us and Cynthia Watters of Epic Journeys Tours – and explore amazing travel destinations on American Soil and Abroad!
URL:https://www.laurelhighlandsnetworking.com/event/attention-destination-meeting-at-perkins-featuring-cynthia-watters-of-epic-journeys-6-21-19/
LOCATION:Perkins\, 505 Galleria Drive\, Johnstown\, PA\, 15904\, United States
END:VEVENT
BEGIN:VEVENT
DTSTART;TZID=UTC:20190524T071500
DTEND;TZID=UTC:20190524T083000
DTSTAMP:20260425T162243
CREATED:20190430T180131Z
LAST-MODIFIED:20190430T180131Z
UID:1607-1558682100-1558686600@www.laurelhighlandsnetworking.com
SUMMARY:FRIDAY MAY 24th - NO MEETING - HAPPY MEMORIAL DAY!
DESCRIPTION:ENJOY YOUR MEMORIAL DAY WEEKEND!
URL:https://www.laurelhighlandsnetworking.com/event/friday-may-24th-no-meeting-happy-memorial-day/
LOCATION:PA
END:VEVENT
BEGIN:VEVENT
DTSTART;TZID=UTC:20190517T071500
DTEND;TZID=UTC:20190517T083000
DTSTAMP:20260425T162243
CREATED:20190430T180007Z
LAST-MODIFIED:20190430T180007Z
UID:1605-1558077300-1558081800@www.laurelhighlandsnetworking.com
SUMMARY:FEATURED SPEAKER:  KAREN BRUBAKER - ON LOCATION AT O'SHEA'S CANDIES IN GEISTOWN
DESCRIPTION:Join Us ON LOCATION at O’Shea’s Candies in Johnstown – as Karen gives us a tour and explains all the new yummy options for Summer!
URL:https://www.laurelhighlandsnetworking.com/event/featured-speaker-karen-brubaker-on-location-at-osheas-candies-in-geistown/
LOCATION:PA
END:VEVENT
BEGIN:VEVENT
DTSTART;TZID=UTC:20190510T071500
DTEND;TZID=UTC:20190510T083000
DTSTAMP:20260425T162243
CREATED:20190430T175823Z
LAST-MODIFIED:20190430T175823Z
UID:1603-1557472500-1557477000@www.laurelhighlandsnetworking.com
SUMMARY:FEATURED SPEAKER:  JOE FORTUNATO - THE HEALTH INSURANCE PLACE
DESCRIPTION:Join Us and Joe – as we continue to learn more about Health Insurance options – for those who are turning 65 this year!
URL:https://www.laurelhighlandsnetworking.com/event/featured-speaker-joe-fortunato-the-health-insurance-place/
LOCATION:Holiday Inn\, 250 Market Street\, Johnstown\, PA\, 15901\, United States
END:VEVENT
BEGIN:VEVENT
DTSTART;TZID=UTC:20190503T071500
DTEND;TZID=UTC:20190503T083000
DTSTAMP:20260425T162243
CREATED:20190430T175636Z
LAST-MODIFIED:20190430T175636Z
UID:1601-1556867700-1556872200@www.laurelhighlandsnetworking.com
SUMMARY:FEATURED SPEAKER:  DESTINATION MEETING:  CHAD VIROSTEK - OVERHEAD DOOR COMPANY OF JOHNSTOWN
DESCRIPTION:Join Us – and Chad ON LOCATION at Overhead Door Company of Johnstown!  Chad will give us a tour and also share new examples of ways to beautify your home with Garage Doors!
URL:https://www.laurelhighlandsnetworking.com/event/featured-speaker-destination-meeting-chad-virostek-overhead-door-company-of-johnstown/
LOCATION:Overhead Door Company\, 821 Pine Street\, Johnstown\, PA\, 15902
END:VEVENT
BEGIN:VEVENT
DTSTART;TZID=UTC:20190426T071500
DTEND;TZID=UTC:20190426T083000
DTSTAMP:20260425T162243
CREATED:20190304T192232Z
LAST-MODIFIED:20190304T192232Z
UID:1590-1556262900-1556267400@www.laurelhighlandsnetworking.com
SUMMARY:FEATURED SPEAKER:  KEN SALEM - THOMAS HONDA
DESCRIPTION:Join Us ON LOCATION – at Thomas Team Honda – and see for yourself the showroom and newest HONDA vehicles available to fit your lifestyle!
URL:https://www.laurelhighlandsnetworking.com/event/featured-speaker-ken-salem-thomas-honda/
LOCATION:Thomas Team Honda\, Bedford Street\, Johnstown\, PA\, 15904\, United States
END:VEVENT
BEGIN:VEVENT
DTSTART;TZID=UTC:20190419T071500
DTEND;TZID=UTC:20190419T083000
DTSTAMP:20260425T162243
CREATED:20190304T192053Z
LAST-MODIFIED:20190304T192053Z
UID:1588-1555658100-1555662600@www.laurelhighlandsnetworking.com
SUMMARY:HAPPY EASTER - NO MEETING THIS WEEK
DESCRIPTION:To celebrate the Easter Weekend -we will not be meeting this week.  HAPPY EASTER EVERYONE!
URL:https://www.laurelhighlandsnetworking.com/event/happy-easter-no-meeting-this-week/
LOCATION:Holiday Inn\, 250 Market Street\, Johnstown\, PA\, 15901\, United States
END:VEVENT
BEGIN:VEVENT
DTSTART;TZID=UTC:20190405T071500
DTEND;TZID=UTC:20190405T083000
DTSTAMP:20260425T162243
CREATED:20190304T191939Z
LAST-MODIFIED:20190304T191939Z
UID:1586-1554448500-1554453000@www.laurelhighlandsnetworking.com
SUMMARY:FEATURED SPEAKER - JIM BRETT - BRETT INSURANCE
DESCRIPTION:Join Us – and Jim – as he explains why taking a few minutes to check your current home and auto – or commercial policies can save you money!
URL:https://www.laurelhighlandsnetworking.com/event/featured-speaker-jim-brett-brett-insurance/
LOCATION:Holiday Inn\, 250 Market Street\, Johnstown\, PA\, 15901\, United States
END:VEVENT
BEGIN:VEVENT
DTSTART;TZID=UTC:20190329T071500
DTEND;TZID=UTC:20190329T083000
DTSTAMP:20260425T162243
CREATED:20190304T191755Z
LAST-MODIFIED:20190304T191755Z
UID:1584-1553843700-1553848200@www.laurelhighlandsnetworking.com
SUMMARY:FEATURED SPEAKER:  KIM KORENOSKI  THE HITE COMPANY
DESCRIPTION:Join Us – and Kim – as she lights up our lives – with indoor and outdoor lighting options – for efficiency and beauty!
URL:https://www.laurelhighlandsnetworking.com/event/featured-speaker-kim-korenoski-the-hite-company/
LOCATION:Holiday Inn\, 250 Market Street\, Johnstown\, PA\, 15901\, United States
END:VEVENT
BEGIN:VEVENT
DTSTART;TZID=UTC:20190322T071500
DTEND;TZID=UTC:20190322T083000
DTSTAMP:20260425T162243
CREATED:20190304T191606Z
LAST-MODIFIED:20190304T191606Z
UID:1582-1553238900-1553243400@www.laurelhighlandsnetworking.com
SUMMARY:FEATURED SPEAKER:  ALBERT GHANTOUS  ELIAS PAINTING
DESCRIPTION:Join Us – and Albert – as he discusses the benefits of hiring a professional company to do your indoor and outdoor painting projects – and also church painting opportunities.
URL:https://www.laurelhighlandsnetworking.com/event/featured-speaker-albert-ghantous-elias-painting/
LOCATION:Holiday Inn\, 250 Market Street\, Johnstown\, PA\, 15901\, United States
END:VEVENT
BEGIN:VEVENT
DTSTART;TZID=UTC:20190315T071500
DTEND;TZID=UTC:20190315T083000
DTSTAMP:20260425T162243
CREATED:20190304T191355Z
LAST-MODIFIED:20190304T191355Z
UID:1580-1552634100-1552638600@www.laurelhighlandsnetworking.com
SUMMARY:FEATURED SPEAKER:  SUZANNE SAKMAR - DAMIN PRINTING
DESCRIPTION:Join Us and Suzanne – and she shares many opportunities for printing -and many places to put your logo for the summer season!
URL:https://www.laurelhighlandsnetworking.com/event/featured-speaker-suzanne-sakmar-damin-printing/
LOCATION:Holiday Inn\, 250 Market Street\, Johnstown\, PA\, 15901\, United States
END:VEVENT
BEGIN:VEVENT
DTSTART;TZID=UTC:20190308T071500
DTEND;TZID=UTC:20190308T083000
DTSTAMP:20260425T162243
CREATED:20190304T191158Z
LAST-MODIFIED:20190304T191158Z
UID:1578-1552029300-1552033800@www.laurelhighlandsnetworking.com
SUMMARY:FEATURED SPEAKER:  KEVIN OLEKSA  OTS
DESCRIPTION:Join Us – and Kevin as he discusses how to keep your business and home computers – safe from virus – and working to their maximum capacity!
URL:https://www.laurelhighlandsnetworking.com/event/featured-speaker-kevin-oleksa-ots/
LOCATION:Holiday Inn\, 250 Market Street\, Johnstown\, PA\, 15901\, United States
END:VEVENT
BEGIN:VEVENT
DTSTART;TZID=UTC:20190126T071500
DTEND;TZID=UTC:20190126T083000
DTSTAMP:20260425T162243
CREATED:20190115T211544Z
LAST-MODIFIED:20190115T211544Z
UID:1571-1548486900-1548491400@www.laurelhighlandsnetworking.com
SUMMARY:FEATURED SPEAKER: KYRA
DESCRIPTION:Join Us and Kyra from WJAC TV – she will be discussing current marketing trends and opportunities through WJAC TV to help you solve any business challenges.
URL:https://www.laurelhighlandsnetworking.com/event/featured-speaker-kyra/
LOCATION:Holiday Inn\, 250 Market Street\, Johnstown\, PA\, 15901\, United States
END:VEVENT
BEGIN:VEVENT
DTSTART;TZID=UTC:20190118T071500
DTEND;TZID=UTC:20190118T083000
DTSTAMP:20260425T162243
CREATED:20190115T211257Z
LAST-MODIFIED:20190115T211257Z
UID:1569-1547795700-1547800200@www.laurelhighlandsnetworking.com
SUMMARY:FEATURED SPEAKER:  LARRY DAVIS - E-3 DESIGN
DESCRIPTION:Join Us and our website developer – Larry Davis.  Larry will discuss the importance of your website – and responsive design – and how to maximize your results!
URL:https://www.laurelhighlandsnetworking.com/event/featured-speaker-larry-davis-e-3-design-3/
LOCATION:Holiday Inn\, 250 Market Street\, Johnstown\, PA\, 15901\, United States
END:VEVENT
BEGIN:VEVENT
DTSTART;TZID=UTC:20190111T071500
DTEND;TZID=UTC:20190111T083000
DTSTAMP:20260425T162243
CREATED:20190103T191057Z
LAST-MODIFIED:20190108T203815Z
UID:1560-1547190900-1547195400@www.laurelhighlandsnetworking.com
SUMMARY:MEMBER SPEAKER:  1-11-19  SIMONE FLESIK
DESCRIPTION:Join Us on Friday – Jan 11th – and learn all about a healthy living lifestyle with Chiropractor\, Dr. Simone Flesik.  Dr. Felsik’s practice is located in Windber and she is ready to help you get healthy – and stay healthy with preventative care.
URL:https://www.laurelhighlandsnetworking.com/event/member-speaker-1-11-19-simone-flesik/
LOCATION:Holiday Inn\, 250 Market Street\, Johnstown\, PA\, 15901\, United States
END:VEVENT
BEGIN:VEVENT
DTSTART;TZID=UTC:20190104T071500
DTEND;TZID=UTC:20190104T083000
DTSTAMP:20260425T162243
CREATED:20190103T190017Z
LAST-MODIFIED:20190103T191223Z
UID:1558-1546586100-1546590600@www.laurelhighlandsnetworking.com
SUMMARY:MEMBER SPEAKER:  1-4-19  STAN HABERKORN
DESCRIPTION:Join Us for the first meeting of 2019 on Friday\, January 4th!  Our member speaker is Stan\, owner of RPM Signs.  Stan will explain “everything he will do for a buck”!  to help increase your visibility and business in our community.  If  you need a sign\, stamper\, trophy\, engraving – logos on hats\, jerseys (Penguin Hockey!!) – Stan is your man.
URL:https://www.laurelhighlandsnetworking.com/event/member-speaker-1-4-19-stan-haberkorn/
LOCATION:Holiday Inn\, 250 Market Street\, Johnstown\, PA\, 15901\, United States
END:VEVENT
END:VCALENDAR