BEGIN:VCALENDAR
VERSION:2.0
PRODID:-//Laurel Highlands Networking - ECPv6.15.18//NONSGML v1.0//EN
CALSCALE:GREGORIAN
METHOD:PUBLISH
X-WR-CALNAME:Laurel Highlands Networking
X-ORIGINAL-URL:https://www.laurelhighlandsnetworking.com
X-WR-CALDESC:Events for Laurel Highlands Networking
REFRESH-INTERVAL;VALUE=DURATION:PT1H
X-Robots-Tag:noindex
X-PUBLISHED-TTL:PT1H
BEGIN:VTIMEZONE
TZID:UTC
BEGIN:STANDARD
TZOFFSETFROM:+0000
TZOFFSETTO:+0000
TZNAME:UTC
DTSTART:20200101T000000
END:STANDARD
END:VTIMEZONE
BEGIN:VEVENT
DTSTART;TZID=UTC:20220218T071500
DTEND;TZID=UTC:20220218T083000
DTSTAMP:20260425T071553
CREATED:20220216T020301Z
LAST-MODIFIED:20220216T020318Z
UID:1800-1645168500-1645173000@www.laurelhighlandsnetworking.com
SUMMARY:FEATURED SPEAKER 2-18-22:  HOLIDAY INN
DESCRIPTION:Join Us and Tiffany from the HOLIDAY INN to explain new updates and changes going on with the new owners.
URL:https://www.laurelhighlandsnetworking.com/event/featured-speaker-holiday-inn/
LOCATION:Holiday Inn\, 250 Market Street\, Johnstown\, PA\, 15901\, United States
END:VEVENT
BEGIN:VEVENT
DTSTART;TZID=UTC:20220128T071500
DTEND;TZID=UTC:20220128T083000
DTSTAMP:20260425T071553
CREATED:20220120T200758Z
LAST-MODIFIED:20220120T200758Z
UID:1791-1643354100-1643358600@www.laurelhighlandsnetworking.com
SUMMARY:1-28-22 Featured Speaker:  MIKE STEVENS
DESCRIPTION:Join Us and Mike Stevens from Somerset Trust Company to learn all about the ins and outs of how a bank helps you do business everyday!
URL:https://www.laurelhighlandsnetworking.com/event/1-28-22-featured-speaker-mike-stevens/
LOCATION:Holiday Inn
END:VEVENT
BEGIN:VEVENT
DTSTART;TZID=UTC:20220121T071500
DTEND;TZID=UTC:20220121T083000
DTSTAMP:20260425T071553
CREATED:20220120T200451Z
LAST-MODIFIED:20220120T200616Z
UID:1787-1642749300-1642753800@www.laurelhighlandsnetworking.com
SUMMARY:1-21-22 Featured Speaker:  Kevin Oleksa for LHN By-Laws
DESCRIPTION:Join Us as learn all about how LHN works through it’s By-Laws.  Kevin will review the highlights of Membership Expectations.
URL:https://www.laurelhighlandsnetworking.com/event/1-21-22-featured-speaker-kevin-oleksa-for-lhn-by-laws/
LOCATION:Holiday Inn\, 250 Market Street\, Johnstown\, PA\, 15901\, United States
END:VEVENT
BEGIN:VEVENT
DTSTART;TZID=UTC:20220114T071500
DTEND;TZID=UTC:20220114T083000
DTSTAMP:20260425T071553
CREATED:20220106T024257Z
LAST-MODIFIED:20220106T024257Z
UID:1784-1642144500-1642149000@www.laurelhighlandsnetworking.com
SUMMARY:Jan 14 - 22  Featured Speaker:  John Huston
DESCRIPTION:Join Us and John Huston and learn all about Huston Enterprises!
URL:https://www.laurelhighlandsnetworking.com/event/jan-14-22-featured-speaker-john-huston/
LOCATION:Holiday Inn\, 250 Market Street\, Johnstown\, PA\, 15901\, United States
END:VEVENT
BEGIN:VEVENT
DTSTART;TZID=UTC:20220107T173000
DTEND;TZID=UTC:20220107T200000
DTSTAMP:20260425T071553
CREATED:20220106T024012Z
LAST-MODIFIED:20220106T024012Z
UID:1781-1641576600-1641585600@www.laurelhighlandsnetworking.com
SUMMARY:January 7 - 2022  SOCIAL EVENT AT BOULEVARD GRILL
DESCRIPTION:Join Us at the Boulevard Grill for a casual night of networking!
URL:https://www.laurelhighlandsnetworking.com/event/january-7-2022-social-event-at-boulevard-grill/
LOCATION:Boulevard Grill\, 165 Southmont Blvd\, Johnstown\, 15905
END:VEVENT
BEGIN:VEVENT
DTSTART;TZID=UTC:20211231T071500
DTEND;TZID=UTC:20211231T083000
DTSTAMP:20260425T071553
CREATED:20210908T183510Z
LAST-MODIFIED:20210908T183510Z
UID:1770-1640934900-1640939400@www.laurelhighlandsnetworking.com
SUMMARY:HAPPY NEW YEAR:  NO MEETING THIS WEEK
DESCRIPTION:
URL:https://www.laurelhighlandsnetworking.com/event/happy-new-year-no-meeting-this-week/
LOCATION:PA
END:VEVENT
BEGIN:VEVENT
DTSTART;TZID=UTC:20211224T071500
DTEND;TZID=UTC:20211224T083000
DTSTAMP:20260425T071553
CREATED:20210908T183427Z
LAST-MODIFIED:20210908T183427Z
UID:1768-1640330100-1640334600@www.laurelhighlandsnetworking.com
SUMMARY:MERRY CHRISTMAS:  NO MEETING THIS WEEK
DESCRIPTION:
URL:https://www.laurelhighlandsnetworking.com/event/merry-christmas-no-meeting-this-week/
LOCATION:PA
END:VEVENT
BEGIN:VEVENT
DTSTART;TZID=UTC:20211217T071500
DTEND;TZID=UTC:20211217T083000
DTSTAMP:20260425T071553
CREATED:20210908T183345Z
LAST-MODIFIED:20210908T183345Z
UID:1766-1639725300-1639729800@www.laurelhighlandsnetworking.com
SUMMARY:Featured Speaker:  Chris Foster
DESCRIPTION:Join Us and Chris Foster as he speaks about Lamar Outdoor Advertising!
URL:https://www.laurelhighlandsnetworking.com/event/featured-speaker-chris-foster/
LOCATION:Holiday Inn\, 250 Market Street\, Johnstown\, PA\, 15901\, United States
END:VEVENT
BEGIN:VEVENT
DTSTART;TZID=UTC:20211210T071500
DTEND;TZID=UTC:20211210T083000
DTSTAMP:20260425T071553
CREATED:20210908T183238Z
LAST-MODIFIED:20210908T183238Z
UID:1764-1639120500-1639125000@www.laurelhighlandsnetworking.com
SUMMARY:Featured Speaker:  Dino Tessari
DESCRIPTION:Join Us and DINO TESSARI as he speaks about Thomas Team Honda!
URL:https://www.laurelhighlandsnetworking.com/event/featured-speaker-dino-tessari/
LOCATION:Holiday Inn\, 250 Market Street\, Johnstown\, PA\, 15901\, United States
END:VEVENT
BEGIN:VEVENT
DTSTART;TZID=UTC:20211203T071500
DTEND;TZID=UTC:20211203T083000
DTSTAMP:20260425T071553
CREATED:20210908T183124Z
LAST-MODIFIED:20210908T183124Z
UID:1762-1638515700-1638520200@www.laurelhighlandsnetworking.com
SUMMARY:Featured Speaker:  Sally Vogel
DESCRIPTION:Join Us and Sally Vogel as she speaks about Wessel & Company!
URL:https://www.laurelhighlandsnetworking.com/event/featured-speaker-sally-vogel/
LOCATION:Holiday Inn\, 250 Market Street\, Johnstown\, PA\, 15901\, United States
END:VEVENT
BEGIN:VEVENT
DTSTART;TZID=UTC:20211126T071500
DTEND;TZID=UTC:20211126T083000
DTSTAMP:20260425T071553
CREATED:20210908T183003Z
LAST-MODIFIED:20210908T183003Z
UID:1760-1637910900-1637915400@www.laurelhighlandsnetworking.com
SUMMARY:HAPPY THANKSGIVING: NO MEETING THIS WEEK
DESCRIPTION:
URL:https://www.laurelhighlandsnetworking.com/event/happy-thanksgiving-no-meeting-this-week-2/
LOCATION:PA
END:VEVENT
BEGIN:VEVENT
DTSTART;TZID=UTC:20211119T071500
DTEND;TZID=UTC:20211119T083000
DTSTAMP:20260425T071553
CREATED:20210908T182650Z
LAST-MODIFIED:20211027T234303Z
UID:1754-1637306100-1637310600@www.laurelhighlandsnetworking.com
SUMMARY:Featured Speakers:  CYNTHIA WATTERS and PIETER REYNOLDS
DESCRIPTION:Join Us and Cynthia Watters and Pieter Reynolds as they speak about Epic Journeys!
URL:https://www.laurelhighlandsnetworking.com/event/featured-speakers-cynthia-watters-and-pieter-reynolds/
LOCATION:Holiday Inn\, 250 Market Street\, Johnstown\, PA\, 15901\, United States
END:VEVENT
BEGIN:VEVENT
DTSTART;TZID=UTC:20211112T071500
DTEND;TZID=UTC:20211112T083000
DTSTAMP:20260425T071553
CREATED:20210908T182808Z
LAST-MODIFIED:20210908T182808Z
UID:1756-1636701300-1636705800@www.laurelhighlandsnetworking.com
SUMMARY:Featured Speaker:  Kevin Oleksa
DESCRIPTION:Join Us and Kevin Oleksa as he speaks regarding OTS!
URL:https://www.laurelhighlandsnetworking.com/event/featured-speaker-kevin-oleksa/
LOCATION:Holiday Inn\, 250 Market Street\, Johnstown\, PA\, 15901\, United States
END:VEVENT
BEGIN:VEVENT
DTSTART;TZID=UTC:20211105T071500
DTEND;TZID=UTC:20211105T083000
DTSTAMP:20260425T071553
CREATED:20210908T182413Z
LAST-MODIFIED:20211027T234521Z
UID:1750-1636096500-1636101000@www.laurelhighlandsnetworking.com
SUMMARY:FEATURED SPEAKER:  11-5-21 LARRY DAVIS
DESCRIPTION:Join Us and Larry Davis and learn all about E-3 Designs and much more!
URL:https://www.laurelhighlandsnetworking.com/event/destination-meeting-with-larry-davis/
LOCATION:Holiday Inn\, 250 Market Street\, Johnstown\, PA\, 15901\, United States
END:VEVENT
BEGIN:VEVENT
DTSTART;TZID=UTC:20211029T071500
DTEND;TZID=UTC:20211029T083000
DTSTAMP:20260425T071553
CREATED:20210908T182523Z
LAST-MODIFIED:20210908T182523Z
UID:1752-1635491700-1635496200@www.laurelhighlandsnetworking.com
SUMMARY:Featured Speaker:  CHAD VIROSTEK
DESCRIPTION:Join Us and Chad Virostek as he speaks regarding Overhead Door Company!
URL:https://www.laurelhighlandsnetworking.com/event/featured-speaker-chad-virostek-2/
LOCATION:Holiday Inn\, 250 Market Street\, Johnstown\, PA\, 15901\, United States
END:VEVENT
BEGIN:VEVENT
DTSTART;TZID=UTC:20211015T071500
DTEND;TZID=UTC:20211015T083000
DTSTAMP:20260425T071553
CREATED:20210908T182256Z
LAST-MODIFIED:20210908T182256Z
UID:1748-1634282100-1634286600@www.laurelhighlandsnetworking.com
SUMMARY:Featured Speaker:  Stephen Zybura
DESCRIPTION:Join Us and Stephen Zybura as he speaks regarding Shine Time Auto Detailing!
URL:https://www.laurelhighlandsnetworking.com/event/featured-speaker-stephen-zybura/
LOCATION:Holiday Inn\, 250 Market Street\, Johnstown\, PA\, 15901\, United States
END:VEVENT
BEGIN:VEVENT
DTSTART;TZID=UTC:20211008T071500
DTEND;TZID=UTC:20211008T083000
DTSTAMP:20260425T071553
CREATED:20210908T182118Z
LAST-MODIFIED:20210908T182118Z
UID:1746-1633677300-1633681800@www.laurelhighlandsnetworking.com
SUMMARY:Featured Speaker:  JOE CALVERLEY
DESCRIPTION:Join Us and Joe Calverley as he speaks regarding Calverley’s Climate Control
URL:https://www.laurelhighlandsnetworking.com/event/featured-speaker-joe-calverley/
LOCATION:Holiday Inn\, 250 Market Street\, Johnstown\, PA\, 15901\, United States
END:VEVENT
BEGIN:VEVENT
DTSTART;TZID=UTC:20211001T071500
DTEND;TZID=UTC:20211001T083000
DTSTAMP:20260425T071553
CREATED:20210908T181931Z
LAST-MODIFIED:20210908T181931Z
UID:1742-1633072500-1633077000@www.laurelhighlandsnetworking.com
SUMMARY:DESTINATION MEETING:  RPM SIGNS: Featured Speaker Stan Haberkorn
DESCRIPTION:Join us for a Destination Meeting at RPM Signs new location in Richland!
URL:https://www.laurelhighlandsnetworking.com/event/destination-meeting-rpm-signs-featured-speaker-stan-haberkorn/
LOCATION:PERKINS\, 1011 Scalp Ave\, Johnstown\, PA\, 15904
END:VEVENT
BEGIN:VEVENT
DTSTART;TZID=UTC:20210924T071500
DTEND;TZID=UTC:20210924T083000
DTSTAMP:20260425T071553
CREATED:20210720T191912Z
LAST-MODIFIED:20210720T191912Z
UID:1732-1632467700-1632472200@www.laurelhighlandsnetworking.com
SUMMARY:FEATURED SPEAKER:  DR. SIMOME FLESIK
DESCRIPTION:Join Us on Friday\, Sept 24th\, to learn all about Windber Chiropractic!
URL:https://www.laurelhighlandsnetworking.com/event/featured-speaker-dr-simome-flesik/
LOCATION:Holiday Inn\, 250 Market Street\, Johnstown\, PA\, 15901\, United States
END:VEVENT
BEGIN:VEVENT
DTSTART;TZID=UTC:20210917T071500
DTEND;TZID=UTC:20210917T083000
DTSTAMP:20260425T071553
CREATED:20210720T191654Z
LAST-MODIFIED:20210720T191654Z
UID:1728-1631862900-1631867400@www.laurelhighlandsnetworking.com
SUMMARY:FEATURED SPEAKER:  MIKE STEVENS
DESCRIPTION:Join Us on Friday\, Sept 17th\, to learn all about Somerset Trust Company!
URL:https://www.laurelhighlandsnetworking.com/event/featured-speaker-mike-stevens/
LOCATION:Holiday Inn\, 250 Market Street\, Johnstown\, PA\, 15901\, United States
END:VEVENT
BEGIN:VEVENT
DTSTART;TZID=UTC:20210910T071500
DTEND;TZID=UTC:20210910T083000
DTSTAMP:20260425T071553
CREATED:20210908T181440Z
LAST-MODIFIED:20210908T181440Z
UID:1740-1631258100-1631262600@www.laurelhighlandsnetworking.com
SUMMARY:Sept 10 - Featured Speaker:  JOHN HUSTON
DESCRIPTION:Join Us on Friday\, Sept 10th\, and learn all about Professional Coaching by John Huston!
URL:https://www.laurelhighlandsnetworking.com/event/sept-10-featured-speaker-john-huston/
LOCATION:Holiday Inn\, 250 Market Street\, Johnstown\, PA\, 15901\, United States
END:VEVENT
BEGIN:VEVENT
DTSTART;TZID=UTC:20210903T071500
DTEND;TZID=UTC:20210903T083000
DTSTAMP:20260425T071553
CREATED:20210720T191751Z
LAST-MODIFIED:20210720T191751Z
UID:1730-1630653300-1630657800@www.laurelhighlandsnetworking.com
SUMMARY:NO MEETING - HAPPY LABOR DAY WEEKEND!
DESCRIPTION:No Meeting – Enjoy the Labor Day Weekend!
URL:https://www.laurelhighlandsnetworking.com/event/no-meeting-happy-labor-day-weekend/
LOCATION:PA
END:VEVENT
BEGIN:VEVENT
DTSTART;TZID=UTC:20210820T071500
DTEND;TZID=UTC:20210820T083000
DTSTAMP:20260425T071553
CREATED:20210720T191527Z
LAST-MODIFIED:20210720T191527Z
UID:1726-1629443700-1629448200@www.laurelhighlandsnetworking.com
SUMMARY:FEATURED SPEAKER:  BILL HARRIS DESTINATION MEETING ON LOCATION
DESCRIPTION:Join Us\, on location at Harris Funeral Home\, to learn all about Harris Funeral Home and Laurel Highlands Crematory!
URL:https://www.laurelhighlandsnetworking.com/event/featured-speaker-bill-harris-destination-meeting-on-location/
LOCATION:Harris Funeral Home\, 500 Cherry Street\, Johnstown\, 15904\, United States
END:VEVENT
BEGIN:VEVENT
DTSTART;TZID=UTC:20210813T071500
DTEND;TZID=UTC:20210813T083000
DTSTAMP:20260425T071553
CREATED:20210720T191358Z
LAST-MODIFIED:20210720T191358Z
UID:1724-1628838900-1628843400@www.laurelhighlandsnetworking.com
SUMMARY:FEATURED SPEAKER:  TIM UNDERWOOD
DESCRIPTION:Join Us on Friday\, Aug 13th\, to learn all about Underwood Construction!
URL:https://www.laurelhighlandsnetworking.com/event/featured-speaker-tim-underwood-2/
LOCATION:Holiday Inn\, 250 Market Street\, Johnstown\, PA\, 15901\, United States
END:VEVENT
BEGIN:VEVENT
DTSTART;TZID=UTC:20210806T071500
DTEND;TZID=UTC:20210806T083000
DTSTAMP:20260425T071553
CREATED:20210720T191239Z
LAST-MODIFIED:20210720T191239Z
UID:1722-1628234100-1628238600@www.laurelhighlandsnetworking.com
SUMMARY:FEATURED SPEAKER:  JERRY THOMAS
DESCRIPTION:Join Us on Friday\, August 6th\, to learn all about Jerry Thomas Land Surveying!
URL:https://www.laurelhighlandsnetworking.com/event/featured-speaker-jerry-thomas/
LOCATION:Holiday Inn\, 250 Market Street\, Johnstown\, PA\, 15901\, United States
END:VEVENT
BEGIN:VEVENT
DTSTART;TZID=UTC:20210730T071500
DTEND;TZID=UTC:20210730T083000
DTSTAMP:20260425T071553
CREATED:20210727T003234Z
LAST-MODIFIED:20210727T003234Z
UID:1736-1627629300-1627633800@www.laurelhighlandsnetworking.com
SUMMARY:Featured Speaker:  Chris Foster 7-30-21
DESCRIPTION:Join Us on Friday\, July 30th\, and learn all about Lamar Outdoor Advertising.
URL:https://www.laurelhighlandsnetworking.com/event/featured-speaker-chris-foster-7-30-21/
LOCATION:Holiday Inn\, 250 Market Street\, Johnstown\, PA\, 15901\, United States
END:VEVENT
BEGIN:VEVENT
DTSTART;TZID=UTC:20210723T071500
DTEND;TZID=UTC:20210723T083000
DTSTAMP:20260425T071553
CREATED:20210721T172346Z
LAST-MODIFIED:20210721T172346Z
UID:1734-1627024500-1627029000@www.laurelhighlandsnetworking.com
SUMMARY:FRIDAY - JULY 23 - DESTINATION MEETING AT PERKINS
DESCRIPTION:Join Us on Friday\, July 23rd\, for an off site destination meeting at PERKINS in Richland!
URL:https://www.laurelhighlandsnetworking.com/event/friday-july-23-destination-meeting-at-perkins/
LOCATION:Perkins\, 505 Galleria Drive\, Johnstown\, PA\, 15904\, United States
END:VEVENT
BEGIN:VEVENT
DTSTART;TZID=UTC:20210702T071500
DTEND;TZID=UTC:20210702T083000
DTSTAMP:20260425T071553
CREATED:20210429T192109Z
LAST-MODIFIED:20210429T192109Z
UID:1719-1625210100-1625214600@www.laurelhighlandsnetworking.com
SUMMARY:NO MEETING 7-2-21: HAPPY 4th of JULY!
DESCRIPTION:
URL:https://www.laurelhighlandsnetworking.com/event/no-meeting-7-2-21-happy-4th-of-july/
LOCATION:PA
END:VEVENT
BEGIN:VEVENT
DTSTART;TZID=UTC:20210625T071500
DTEND;TZID=UTC:20210625T083000
DTSTAMP:20260425T071553
CREATED:20210429T192026Z
LAST-MODIFIED:20210429T192026Z
UID:1717-1624605300-1624609800@www.laurelhighlandsnetworking.com
SUMMARY:FEATURED SPEAKER 6-25-21: Jim Brett\, Brett Insurance Agency
DESCRIPTION:
URL:https://www.laurelhighlandsnetworking.com/event/featured-speaker-6-25-21-jim-brett-brett-insurance-agency/
LOCATION:Holiday Inn\, 250 Market Street\, Johnstown\, PA\, 15901\, United States
END:VEVENT
BEGIN:VEVENT
DTSTART;TZID=UTC:20210618T071500
DTEND;TZID=UTC:20210618T083000
DTSTAMP:20260425T071553
CREATED:20210429T191928Z
LAST-MODIFIED:20210429T191928Z
UID:1715-1624000500-1624005000@www.laurelhighlandsnetworking.com
SUMMARY:FEATURED SPEAKER 6-18-21:  Ron Froehlich\, LaPorta's Flowers and Gifts
DESCRIPTION:
URL:https://www.laurelhighlandsnetworking.com/event/featured-speaker-6-18-21-ron-froehlich-laportas-flowers-and-gifts/
LOCATION:Holiday Inn\, 250 Market Street\, Johnstown\, PA\, 15901\, United States
END:VEVENT
END:VCALENDAR