BEGIN:VCALENDAR
VERSION:2.0
PRODID:-//Laurel Highlands Networking - ECPv6.15.18//NONSGML v1.0//EN
CALSCALE:GREGORIAN
METHOD:PUBLISH
X-WR-CALNAME:Laurel Highlands Networking
X-ORIGINAL-URL:https://www.laurelhighlandsnetworking.com
X-WR-CALDESC:Events for Laurel Highlands Networking
REFRESH-INTERVAL;VALUE=DURATION:PT1H
X-Robots-Tag:noindex
X-PUBLISHED-TTL:PT1H
BEGIN:VTIMEZONE
TZID:UTC
BEGIN:STANDARD
TZOFFSETFROM:+0000
TZOFFSETTO:+0000
TZNAME:UTC
DTSTART:20170101T000000
END:STANDARD
END:VTIMEZONE
BEGIN:VEVENT
DTSTART;TZID=UTC:20190419T071500
DTEND;TZID=UTC:20190419T083000
DTSTAMP:20260425T195038
CREATED:20190304T192053Z
LAST-MODIFIED:20190304T192053Z
UID:1588-1555658100-1555662600@www.laurelhighlandsnetworking.com
SUMMARY:HAPPY EASTER - NO MEETING THIS WEEK
DESCRIPTION:To celebrate the Easter Weekend -we will not be meeting this week.  HAPPY EASTER EVERYONE!
URL:https://www.laurelhighlandsnetworking.com/event/happy-easter-no-meeting-this-week/
LOCATION:Holiday Inn\, 250 Market Street\, Johnstown\, PA\, 15901\, United States
END:VEVENT
BEGIN:VEVENT
DTSTART;TZID=UTC:20190405T071500
DTEND;TZID=UTC:20190405T083000
DTSTAMP:20260425T195038
CREATED:20190304T191939Z
LAST-MODIFIED:20190304T191939Z
UID:1586-1554448500-1554453000@www.laurelhighlandsnetworking.com
SUMMARY:FEATURED SPEAKER - JIM BRETT - BRETT INSURANCE
DESCRIPTION:Join Us – and Jim – as he explains why taking a few minutes to check your current home and auto – or commercial policies can save you money!
URL:https://www.laurelhighlandsnetworking.com/event/featured-speaker-jim-brett-brett-insurance/
LOCATION:Holiday Inn\, 250 Market Street\, Johnstown\, PA\, 15901\, United States
END:VEVENT
BEGIN:VEVENT
DTSTART;TZID=UTC:20190329T071500
DTEND;TZID=UTC:20190329T083000
DTSTAMP:20260425T195038
CREATED:20190304T191755Z
LAST-MODIFIED:20190304T191755Z
UID:1584-1553843700-1553848200@www.laurelhighlandsnetworking.com
SUMMARY:FEATURED SPEAKER:  KIM KORENOSKI  THE HITE COMPANY
DESCRIPTION:Join Us – and Kim – as she lights up our lives – with indoor and outdoor lighting options – for efficiency and beauty!
URL:https://www.laurelhighlandsnetworking.com/event/featured-speaker-kim-korenoski-the-hite-company/
LOCATION:Holiday Inn\, 250 Market Street\, Johnstown\, PA\, 15901\, United States
END:VEVENT
BEGIN:VEVENT
DTSTART;TZID=UTC:20190322T071500
DTEND;TZID=UTC:20190322T083000
DTSTAMP:20260425T195038
CREATED:20190304T191606Z
LAST-MODIFIED:20190304T191606Z
UID:1582-1553238900-1553243400@www.laurelhighlandsnetworking.com
SUMMARY:FEATURED SPEAKER:  ALBERT GHANTOUS  ELIAS PAINTING
DESCRIPTION:Join Us – and Albert – as he discusses the benefits of hiring a professional company to do your indoor and outdoor painting projects – and also church painting opportunities.
URL:https://www.laurelhighlandsnetworking.com/event/featured-speaker-albert-ghantous-elias-painting/
LOCATION:Holiday Inn\, 250 Market Street\, Johnstown\, PA\, 15901\, United States
END:VEVENT
BEGIN:VEVENT
DTSTART;TZID=UTC:20190315T071500
DTEND;TZID=UTC:20190315T083000
DTSTAMP:20260425T195038
CREATED:20190304T191355Z
LAST-MODIFIED:20190304T191355Z
UID:1580-1552634100-1552638600@www.laurelhighlandsnetworking.com
SUMMARY:FEATURED SPEAKER:  SUZANNE SAKMAR - DAMIN PRINTING
DESCRIPTION:Join Us and Suzanne – and she shares many opportunities for printing -and many places to put your logo for the summer season!
URL:https://www.laurelhighlandsnetworking.com/event/featured-speaker-suzanne-sakmar-damin-printing/
LOCATION:Holiday Inn\, 250 Market Street\, Johnstown\, PA\, 15901\, United States
END:VEVENT
BEGIN:VEVENT
DTSTART;TZID=UTC:20190308T071500
DTEND;TZID=UTC:20190308T083000
DTSTAMP:20260425T195038
CREATED:20190304T191158Z
LAST-MODIFIED:20190304T191158Z
UID:1578-1552029300-1552033800@www.laurelhighlandsnetworking.com
SUMMARY:FEATURED SPEAKER:  KEVIN OLEKSA  OTS
DESCRIPTION:Join Us – and Kevin as he discusses how to keep your business and home computers – safe from virus – and working to their maximum capacity!
URL:https://www.laurelhighlandsnetworking.com/event/featured-speaker-kevin-oleksa-ots/
LOCATION:Holiday Inn\, 250 Market Street\, Johnstown\, PA\, 15901\, United States
END:VEVENT
BEGIN:VEVENT
DTSTART;TZID=UTC:20190126T071500
DTEND;TZID=UTC:20190126T083000
DTSTAMP:20260425T195038
CREATED:20190115T211544Z
LAST-MODIFIED:20190115T211544Z
UID:1571-1548486900-1548491400@www.laurelhighlandsnetworking.com
SUMMARY:FEATURED SPEAKER: KYRA
DESCRIPTION:Join Us and Kyra from WJAC TV – she will be discussing current marketing trends and opportunities through WJAC TV to help you solve any business challenges.
URL:https://www.laurelhighlandsnetworking.com/event/featured-speaker-kyra/
LOCATION:Holiday Inn\, 250 Market Street\, Johnstown\, PA\, 15901\, United States
END:VEVENT
BEGIN:VEVENT
DTSTART;TZID=UTC:20190118T071500
DTEND;TZID=UTC:20190118T083000
DTSTAMP:20260425T195038
CREATED:20190115T211257Z
LAST-MODIFIED:20190115T211257Z
UID:1569-1547795700-1547800200@www.laurelhighlandsnetworking.com
SUMMARY:FEATURED SPEAKER:  LARRY DAVIS - E-3 DESIGN
DESCRIPTION:Join Us and our website developer – Larry Davis.  Larry will discuss the importance of your website – and responsive design – and how to maximize your results!
URL:https://www.laurelhighlandsnetworking.com/event/featured-speaker-larry-davis-e-3-design-3/
LOCATION:Holiday Inn\, 250 Market Street\, Johnstown\, PA\, 15901\, United States
END:VEVENT
BEGIN:VEVENT
DTSTART;TZID=UTC:20190111T071500
DTEND;TZID=UTC:20190111T083000
DTSTAMP:20260425T195038
CREATED:20190103T191057Z
LAST-MODIFIED:20190108T203815Z
UID:1560-1547190900-1547195400@www.laurelhighlandsnetworking.com
SUMMARY:MEMBER SPEAKER:  1-11-19  SIMONE FLESIK
DESCRIPTION:Join Us on Friday – Jan 11th – and learn all about a healthy living lifestyle with Chiropractor\, Dr. Simone Flesik.  Dr. Felsik’s practice is located in Windber and she is ready to help you get healthy – and stay healthy with preventative care.
URL:https://www.laurelhighlandsnetworking.com/event/member-speaker-1-11-19-simone-flesik/
LOCATION:Holiday Inn\, 250 Market Street\, Johnstown\, PA\, 15901\, United States
END:VEVENT
BEGIN:VEVENT
DTSTART;TZID=UTC:20190104T071500
DTEND;TZID=UTC:20190104T083000
DTSTAMP:20260425T195038
CREATED:20190103T190017Z
LAST-MODIFIED:20190103T191223Z
UID:1558-1546586100-1546590600@www.laurelhighlandsnetworking.com
SUMMARY:MEMBER SPEAKER:  1-4-19  STAN HABERKORN
DESCRIPTION:Join Us for the first meeting of 2019 on Friday\, January 4th!  Our member speaker is Stan\, owner of RPM Signs.  Stan will explain “everything he will do for a buck”!  to help increase your visibility and business in our community.  If  you need a sign\, stamper\, trophy\, engraving – logos on hats\, jerseys (Penguin Hockey!!) – Stan is your man.
URL:https://www.laurelhighlandsnetworking.com/event/member-speaker-1-4-19-stan-haberkorn/
LOCATION:Holiday Inn\, 250 Market Street\, Johnstown\, PA\, 15901\, United States
END:VEVENT
BEGIN:VEVENT
DTSTART;TZID=UTC:20181207T071500
DTEND;TZID=UTC:20181207T083000
DTSTAMP:20260425T195038
CREATED:20181205T191102Z
LAST-MODIFIED:20181205T191102Z
UID:1555-1544166900-1544171400@www.laurelhighlandsnetworking.com
SUMMARY:DESTINATION MEETING AT LAPORTA'S FLOWERS AND GIFTS
DESCRIPTION:Join Us and Ron Froehlich for a Christmas Tour of LaPorta’s Flowers – distinctive gift ideas – perfect for everyone on your list!
URL:https://www.laurelhighlandsnetworking.com/event/destination-meeting-at-laportas-flowers-and-gifts/
LOCATION:PA
END:VEVENT
BEGIN:VEVENT
DTSTART;TZID=UTC:20181130T071500
DTEND;TZID=UTC:20181130T083000
DTSTAMP:20260425T195038
CREATED:20181130T040901Z
LAST-MODIFIED:20181130T040901Z
UID:1553-1543562100-1543566600@www.laurelhighlandsnetworking.com
SUMMARY:FRIDAY NOV 30 - DESTINATION MEETING AT O'SHEA'S CANDIES
DESCRIPTION:Join Us Friday\, Nov 30th – on location at O’Shea’s Candies in Geistown – for the sweetest meeting we have all year long!  Karen Brubaker will give us a tour of the candy store and feature all of the great candy ideas for Christmas this year!
URL:https://www.laurelhighlandsnetworking.com/event/friday-nov-30-destination-meeting-at-osheas-candies/
LOCATION:PA
END:VEVENT
BEGIN:VEVENT
DTSTART;TZID=UTC:20181019T074500
DTEND;TZID=UTC:20181019T083000
DTSTAMP:20260425T195038
CREATED:20180827T172632Z
LAST-MODIFIED:20180827T172632Z
UID:1549-1539935100-1539937800@www.laurelhighlandsnetworking.com
SUMMARY:FEATURED SPEAKER:  BRANDY SMITH
DESCRIPTION:Join Us and Brandy Smith\, owner of Brandy’s Therapeutic Massage\, and learn how one hour a week for yourself – can improve your quality of life at home and the office!
URL:https://www.laurelhighlandsnetworking.com/event/featured-speaker-brandy-smith/
LOCATION:Holiday Inn\, 250 Market Street\, Johnstown\, PA\, 15901\, United States
END:VEVENT
BEGIN:VEVENT
DTSTART;TZID=UTC:20181012T074500
DTEND;TZID=UTC:20181012T083000
DTSTAMP:20260425T195038
CREATED:20180827T172316Z
LAST-MODIFIED:20180827T172316Z
UID:1547-1539330300-1539333000@www.laurelhighlandsnetworking.com
SUMMARY:FEATURED SPEAKER:  CHAD VIROSTEK
DESCRIPTION:Join Us and Chad Virostek\, owner of Overhead Door Company\, and learn how to add instant curb appeal to your property!
URL:https://www.laurelhighlandsnetworking.com/event/featured-speaker-chad-virostek/
LOCATION:Holiday Inn\, 250 Market Street\, Johnstown\, PA\, 15901\, United States
END:VEVENT
BEGIN:VEVENT
DTSTART;TZID=UTC:20181005T074500
DTEND;TZID=UTC:20181005T083000
DTSTAMP:20260425T195038
CREATED:20180827T172157Z
LAST-MODIFIED:20180827T172157Z
UID:1545-1538725500-1538728200@www.laurelhighlandsnetworking.com
SUMMARY:FEATURED SPEAKER:  KIM KORENOSKI
DESCRIPTION:Join Us and Kim Korenoski of the HITE COMPANY – and learn how to light up your home and business – in the most efficient way possible -and adding beauty to your property at the same time!
URL:https://www.laurelhighlandsnetworking.com/event/featured-speaker-kim-korenoski/
LOCATION:PA
END:VEVENT
BEGIN:VEVENT
DTSTART;TZID=UTC:20180928T074500
DTEND;TZID=UTC:20180928T083000
DTSTAMP:20260425T195038
CREATED:20180827T172013Z
LAST-MODIFIED:20180827T172013Z
UID:1543-1538120700-1538123400@www.laurelhighlandsnetworking.com
SUMMARY:FEATURED SPEAKER:  JIM BRETT
DESCRIPTION:Join Us and Jim Brett\, owner of Brett Insurance Agency – and learn all about saving money on your home and auto insurance – and making sure you have the proper coverage you need!
URL:https://www.laurelhighlandsnetworking.com/event/featured-speaker-jim-brett/
LOCATION:Holiday Inn\, 250 Market Street\, Johnstown\, PA\, 15901\, United States
END:VEVENT
BEGIN:VEVENT
DTSTART;TZID=UTC:20180921T074500
DTEND;TZID=UTC:20180921T083000
DTSTAMP:20260425T195038
CREATED:20180827T171831Z
LAST-MODIFIED:20180827T171831Z
UID:1541-1537515900-1537518600@www.laurelhighlandsnetworking.com
SUMMARY:FEATURED SPEAKER:  JOHN HUSTON
DESCRIPTION:Join Us and John Huston of Huston Enterprises – and learn how a business coach can increase your productivity and improve your quality of life!
URL:https://www.laurelhighlandsnetworking.com/event/featured-speaker-john-huston-2/
LOCATION:PA
END:VEVENT
BEGIN:VEVENT
DTSTART;TZID=UTC:20180914T074500
DTEND;TZID=UTC:20180914T083000
DTSTAMP:20260425T195038
CREATED:20180827T171718Z
LAST-MODIFIED:20180827T171718Z
UID:1539-1536911100-1536913800@www.laurelhighlandsnetworking.com
SUMMARY:FEATURED SPEAKER:  SUZANNE SAKMAR
DESCRIPTION:Join Us and Suzanne from Damin Printing – and learn all about the printing business -anything from business cards to elaborate corporate gifts!
URL:https://www.laurelhighlandsnetworking.com/event/featured-speaker-suzanne-sakmar/
LOCATION:PA
END:VEVENT
BEGIN:VEVENT
DTSTART;TZID=UTC:20180907T074500
DTEND;TZID=UTC:20180907T083000
DTSTAMP:20260425T195038
CREATED:20180827T171546Z
LAST-MODIFIED:20180827T171546Z
UID:1537-1536306300-1536309000@www.laurelhighlandsnetworking.com
SUMMARY:FEATURED SPEAKER:  BOB JEFFREYS
DESCRIPTION:Join Us and speaker – BOB JEFFREYS as he explains the benefits of using your electric bill to actually save you money!
URL:https://www.laurelhighlandsnetworking.com/event/featured-speaker-bob-jeffreys-2/
LOCATION:Holiday Inn\, 250 Market Street\, Johnstown\, PA\, 15901\, United States
END:VEVENT
BEGIN:VEVENT
DTSTART;TZID=UTC:20180831T080000
DTEND;TZID=UTC:20180831T170000
DTSTAMP:20260425T195038
CREATED:20180827T172723Z
LAST-MODIFIED:20180827T172723Z
UID:1551-1535702400-1535734800@www.laurelhighlandsnetworking.com
SUMMARY:AUGUST 31st - NO MEETING - HAPPY LABOR DAY WEEKEND!!
DESCRIPTION:
URL:https://www.laurelhighlandsnetworking.com/event/august-31st-no-meeting-happy-labor-day-weekend/
LOCATION:PA
END:VEVENT
BEGIN:VEVENT
DTSTART;TZID=UTC:20180824T080000
DTEND;TZID=UTC:20180824T170000
DTSTAMP:20260425T195038
CREATED:20180801T173546Z
LAST-MODIFIED:20180801T173730Z
UID:1535-1535097600-1535130000@www.laurelhighlandsnetworking.com
SUMMARY:FEATURED SPEAKER:  CYNTHIA WATTERS
DESCRIPTION:Join Us and Cynthia – owner of Epic Journeys – as she walks us through amazing travel destinations both here at home and abroad – we promise – it will be an Epic Journey!!
URL:https://www.laurelhighlandsnetworking.com/event/featured-speaker-cynthia-watters/
LOCATION:Holiday Inn\, 250 Market Street\, Johnstown\, PA\, 15901\, United States
END:VEVENT
BEGIN:VEVENT
DTSTART;TZID=UTC:20180816T071500
DTEND;TZID=UTC:20180816T083000
DTSTAMP:20260425T195038
CREATED:20180801T173352Z
LAST-MODIFIED:20180801T173352Z
UID:1533-1534403700-1534408200@www.laurelhighlandsnetworking.com
SUMMARY:FEATURED SPEAKER:  KYRA KOZIELEC-GILMORE
DESCRIPTION:Join Us and Kyra from WJAC TV- and learn a few marketing tips for your business -and a discussion on how media consumption is changing everyday!
URL:https://www.laurelhighlandsnetworking.com/event/featured-speaker-kyra-kozielec-gilmore/
LOCATION:Holiday Inn\, 250 Market Street\, Johnstown\, PA\, 15901\, United States
END:VEVENT
BEGIN:VEVENT
DTSTART;TZID=UTC:20180810T071500
DTEND;TZID=UTC:20180810T083000
DTSTAMP:20260425T195038
CREATED:20180801T173201Z
LAST-MODIFIED:20180801T173201Z
UID:1531-1533885300-1533889800@www.laurelhighlandsnetworking.com
SUMMARY:FEATURED SPEAKER:  BOB JEFFREYS
DESCRIPTION:Join Us and Bob from AMBIT ENERGY – and learn how to save money and make money using your own electric bill!
URL:https://www.laurelhighlandsnetworking.com/event/featured-speaker-bob-jeffreys/
LOCATION:Holiday Inn\, 250 Market Street\, Johnstown\, PA\, 15901\, United States
END:VEVENT
BEGIN:VEVENT
DTSTART;TZID=UTC:20180803T071500
DTEND;TZID=UTC:20180803T083000
DTSTAMP:20260425T195038
CREATED:20180801T172947Z
LAST-MODIFIED:20180801T172947Z
UID:1529-1533280500-1533285000@www.laurelhighlandsnetworking.com
SUMMARY:FEATURED SPEAKER:  JOHN HUSTON
DESCRIPTION:Join Us and John Huston of Huston Enterprises – to learn all about personal and professional coaching and leadership – John can help you be your absolute best!
URL:https://www.laurelhighlandsnetworking.com/event/featured-speaker-john-huston/
LOCATION:Holiday Inn\, 250 Market Street\, Johnstown\, PA\, 15901\, United States
END:VEVENT
BEGIN:VEVENT
DTSTART;TZID=UTC:20180727T071500
DTEND;TZID=UTC:20180727T083000
DTSTAMP:20260425T195038
CREATED:20180725T175938Z
LAST-MODIFIED:20180725T175938Z
UID:1526-1532675700-1532680200@www.laurelhighlandsnetworking.com
SUMMARY:FEATURED SPEAKER:  LARRY DAVIS E-3 DESIGN
DESCRIPTION:Join us and website guru\, Larry Davis\, and learn about the importance of your website – trends in website design and best practices for your local business!
URL:https://www.laurelhighlandsnetworking.com/event/featured-speaker-larry-davis-e-3-design-2/
LOCATION:Holiday Inn\, 250 Market Street\, Johnstown\, PA\, 15901\, United States
END:VEVENT
BEGIN:VEVENT
DTSTART;TZID=UTC:20180713T071500
DTEND;TZID=UTC:20180713T083000
DTSTAMP:20260425T195038
CREATED:20180710T173941Z
LAST-MODIFIED:20180710T173941Z
UID:1524-1531466100-1531470600@www.laurelhighlandsnetworking.com
SUMMARY:FEATURED SPEAKER:  RPM SIGNS - STAN HABERKORN
DESCRIPTION:Join Us and Stan Haberkorn\, owner of RPM signs – as he explains everything he can do for a buck – don’t miss this interesting discussion on signs\, banners\, window signs\, trophies – you name it\, Stan can put your name on it!
URL:https://www.laurelhighlandsnetworking.com/event/featured-speaker-rpm-signs-stan-haberkorn/
LOCATION:Holiday Inn
END:VEVENT
BEGIN:VEVENT
DTSTART;TZID=UTC:20180706T071500
DTEND;TZID=UTC:20180706T083000
DTSTAMP:20260425T195038
CREATED:20180621T172326Z
LAST-MODIFIED:20180621T232117Z
UID:1518-1530861300-1530865800@www.laurelhighlandsnetworking.com
SUMMARY:HAPPY 4th OF JULY - NO MEETING THIS WEEK
DESCRIPTION:THERE WILL NOT BE A MEETING THIS WEEK.  PLEASE ENJOY YOUR 4TH OF JULY WEEKEND – AND CELEBRATE THE BIRTH OF THIS GREAT NATION!
URL:https://www.laurelhighlandsnetworking.com/event/happy-4th-of-july-no-meeting-this-week/
LOCATION:PA
END:VEVENT
BEGIN:VEVENT
DTSTART;TZID=UTC:20180629T071500
DTEND;TZID=UTC:20180629T083000
DTSTAMP:20260425T195038
CREATED:20180621T172210Z
LAST-MODIFIED:20180621T232140Z
UID:1516-1530256500-1530261000@www.laurelhighlandsnetworking.com
SUMMARY:FEATURED SPEAKER:  TIM UNDERWOOD
DESCRIPTION:Please join us as we learn all about the world of contracting with Tim!  Tim is a locally owned business who does all of the work himself – not using other subcontractors!
URL:https://www.laurelhighlandsnetworking.com/event/featured-speaker-tim-underwood/
LOCATION:Holiday Inn\, 250 Market Street\, Johnstown\, PA\, 15901\, United States
END:VEVENT
BEGIN:VEVENT
DTSTART;TZID=UTC:20180622T071500
DTEND;TZID=UTC:20180622T083000
DTSTAMP:20260425T195038
CREATED:20180621T232326Z
LAST-MODIFIED:20180621T232326Z
UID:1522-1529651700-1529656200@www.laurelhighlandsnetworking.com
SUMMARY:FEATURED SPEAKER:  JOE CALVERLY
DESCRIPTION:Join Us and Joe Calverley from Calverley’s Climate Control – and learn all about the new air filtration system to improve your quality of life!
URL:https://www.laurelhighlandsnetworking.com/event/featured-speaker-joe-calverly/
LOCATION:Holiday Inn\, 250 Market Street\, Johnstown\, PA\, 15901\, United States
END:VEVENT
BEGIN:VEVENT
DTSTART;TZID=UTC:20180525T071500
DTEND;TZID=UTC:20180525T083000
DTSTAMP:20260425T195038
CREATED:20180502T165450Z
LAST-MODIFIED:20180502T165450Z
UID:1510-1527232500-1527237000@www.laurelhighlandsnetworking.com
SUMMARY:NO MEETING THIS WEEK:  ENJOY YOUR MEMORIAL DAY WEEKEND AND REMEMBER THOSE WHO HAVE SERVED OUR COUNTRY
DESCRIPTION:
URL:https://www.laurelhighlandsnetworking.com/event/no-meeting-this-week-enjoy-your-memorial-day-weekend-and-remember-those-who-have-served-our-country/
LOCATION:PA
END:VEVENT
END:VCALENDAR